BEGIN:VCALENDAR
VERSION:2.0
PRODID:icalendar-ruby
CALSCALE:GREGORIAN
METHOD:PUBLISH
BEGIN:VEVENT
DTSTAMP:20260424T153033Z
UID:10-1009827@winnerschapelcalgary.org
DTSTART:20261101T150000Z
DTEND:20261101T164500Z
CLASS:PUBLIC
CREATED:20260424T082710
DESCRIPTION:
LAST-MODIFIED:20260424T082710
LOCATION:3740 27 St NE\, Calgary\, AB T1Y 5E2
SUMMARY:Sunday Worship Service (1st Service)
URL;VALUE=URI:https://www.winnerschapelcalgary.org/events/sunday-worship-se
 rvice-1st-service/2026-11-01
ATTACH;FILENAME=Sunday Service - 1st.png;FMTTYPE=image/png:https://dq5pwpg1
 q8ru0.cloudfront.net/2025/06/09/21/22/15/e23bae9f-998f-463b-b5e5-259b0fc10
 8c0/Sunday%20Service%20-%201st.png
END:VEVENT
END:VCALENDAR
